BEGIN:VCALENDAR
VERSION:2.0
PRODID:-//hacksw/handcal//NONSGML v1.0//EN
BEGIN:VEVENT
SUMMARY:Basket vers l'emploi ! Aller vers !
UID:bb1368d4-d99f-485a-a191-1a88fff29629
DTSTART:20260429T060000Z
DTEND:20260429T080000Z
LOCATION:Localisation   
CATEGORIES:Manifestation
STATUS:
DESCRIPTION:<p>🏀 BASKET VERS L’EMPLOI 💚</p>
 
 <p>Le BCM, en
 partenariat avec France Travail Montbrison, lance un dispositif
 “Aller-vers” pour accompagner des personnes jeunes ou moins
 jeunes qui souhaitent se remettre en mouvement, reprendre confiance
 et avancer vers l’emploi. <br />
 👉 A travers le basket, ce
 projet permet de <br />
 retrouver un rythme,<br />
 creer du lien,<br
 />
 reprendre confiance en soi,<br />
 et faciliter le retour a
 l’emploi. <br />
 📍 Lieu : Gymnase Daval, Montbrison<br />
 🕗
 Premiere seance : 29 avril 2026 a 8h00<br />
 👥 Groupe de 10 a 15
 participants</p>
 
 <p>Nous recherchons des personnes interessees,
 jeunes ou moins jeunes, en recherche d’un nouvel
 elan.</p>
 
 <p>➡️ Vous connaissez quelqu’un que ce projet
 pourrait aider ?<br />
 N’hesitez pas a en parler autour de vous ou
 a nous contacter.</p>
 
 <p>Ensemble, on bouge. Ensemble, on avance.
 💚</p>
 
 <p>#BCM #Montbrison #BasketVersLEmploi #AllerVers
 #FranceTravail #Insertion #Emploi #SportPourTous #Confiance
 #Rebond</p>
URL;VALUE=URI:https://www.basket-montbrison.fr/evenements/2026/04/29/basket-vers-lemploi-aller-vers-2443161
END:VEVENT
END:VCALENDAR
